BEGIN:VCALENDAR
VERSION:2.0
PRODID:-//Mainshows - ECPv6.15.17.1//NONSGML v1.0//EN
CALSCALE:GREGORIAN
METHOD:PUBLISH
X-WR-CALNAME:Mainshows
X-ORIGINAL-URL:https://mainshows.com
X-WR-CALDESC:Events for Mainshows
REFRESH-INTERVAL;VALUE=DURATION:PT1H
X-Robots-Tag:noindex
X-PUBLISHED-TTL:PT1H
BEGIN:VTIMEZONE
TZID:Asia/Kuala_Lumpur
BEGIN:STANDARD
TZOFFSETFROM:+0800
TZOFFSETTO:+0800
TZNAME:+08
DTSTART:20250101T000000
END:STANDARD
END:VTIMEZONE
BEGIN:VEVENT
DTSTART;TZID=Asia/Kuala_Lumpur:20260207T200000
DTEND;TZID=Asia/Kuala_Lumpur:20260207T233000
DTSTAMP:20260423T223604
CREATED:20251124T072344Z
LAST-MODIFIED:20251124T072346Z
UID:18524-1770494400-1770507000@mainshows.com
SUMMARY:GIVĒONDEAR BELOVED THE TOUR in Kuala Lumpur
DESCRIPTION:Dear Beloved\, The Tour will be GIVĒON’s debut in Asia since his overwhelmingly successful 2023 Give or Take Tour. The singer’s return to stage mirrors his return to the booth; BELOVED is GIVĒON’s first studio album since 2022’s Give or Take. The sophomore album\, released in July\, is his second album to debut within the Top 10 of the Billboard 200 (#8) and his first solo album to achieve the feat (When It’s All Said and Done… Take Time). His comeback campaign has been champagne-worthy\, with a four-star review from Rolling Stone and critical acclaim from Variety\, Associated Press\, UPROXX\, Hypebeast and more. \nGIVĒON has made global headlines with his renewed stage presence. Earlier this year\, Drake brought him out as a special guest at Wireless Festival in the UK. GIVĒON featured on Drake’s “Chicago Freestyle” in 2021\, which contributed significantly to the singer’s star turn. \n“How this album is going to translate to the live show – I think it’s going to be magical because the album was made live\, so it’s made to be performed live\,” GIVĒON told Rolling Stone before kicking off the USA leg of the brand-new tour. “It’s going to be my best tour. I want to do strings\, I want to do horns\, I want to do background vocals\, so I feel like [I’ll have] a full eight to 10 piece [backing band]\, depending on how big the stages are. The album is really a movie\, it’s a world\, and I want the night to feel like that.”
URL:https://mainshows.com/event/giveondear-beloved-the-tour-in-kuala-lumpur/
LOCATION:idea live arena\, Malaysia
ATTACH;FMTTYPE=image/jpeg:https://mainshows.com/wp-content/uploads/2025/11/giveon-1.jpg
END:VEVENT
END:VCALENDAR